BEGIN:VCALENDAR
VERSION:2.0
PRODID:-//TSVE - ECPv5.16.1.1//NONSGML v1.0//EN
CALSCALE:GREGORIAN
METHOD:PUBLISH
X-WR-CALNAME:TSVE
X-ORIGINAL-URL:http://volleyball.tsv-eibelstadt.de
X-WR-CALDESC:Veranstaltungen für TSVE
REFRESH-INTERVAL;VALUE=DURATION:PT1H
X-Robots-Tag:noindex
X-PUBLISHED-TTL:PT1H
BEGIN:VTIMEZONE
TZID:Europe/Berlin
BEGIN:DAYLIGHT
TZOFFSETFROM:+0100
TZOFFSETTO:+0200
TZNAME:CEST
DTSTART:20220327T010000
END:DAYLIGHT
BEGIN:STANDARD
TZOFFSETFROM:+0200
TZOFFSETTO:+0100
TZNAME:CET
DTSTART:20221030T010000
END:STANDARD
BEGIN:DAYLIGHT
TZOFFSETFROM:+0100
TZOFFSETTO:+0200
TZNAME:CEST
DTSTART:20230326T010000
END:DAYLIGHT
BEGIN:STANDARD
TZOFFSETFROM:+0200
TZOFFSETTO:+0100
TZNAME:CET
DTSTART:20231029T010000
END:STANDARD
END:VTIMEZONE
BEGIN:VEVENT
DTSTART;TZID=Europe/Berlin:20230319T080000
DTEND;TZID=Europe/Berlin:20230319T170000
DTSTAMP:20260419T184315
CREATED:20230319T153407Z
LAST-MODIFIED:20230319T153511Z
UID:492-1679212800-1679245200@volleyball.tsv-eibelstadt.de
SUMMARY:Wichtiger Termin: letztes Heimspiel für Damen 1 am nächsten Samstag gegen Markkleeberg am 25.03.2023 um 19.00 Uhr\, wir würden uns nochmals über Unterstützung beim Spiel und beim Feiern freuen!
DESCRIPTION:
URL:http://volleyball.tsv-eibelstadt.de/event/wichtiger-termin-letztes-heimspiel-am-naechsten-samstag-gegen-markkleeberg-am-25-03-2023-um-19-00-uhr-wir-wuerden-uns-nochmals-ueber-unterstuetzung-beim-spiel-und-beim-feiern-freuen/
END:VEVENT
BEGIN:VEVENT
DTSTART;TZID=Europe/Berlin:20221002T100000
DTEND;TZID=Europe/Berlin:20221002T170000
DTSTAMP:20260419T184315
CREATED:20220929T142703Z
LAST-MODIFIED:20220929T142703Z
UID:382-1664704800-1664730000@volleyball.tsv-eibelstadt.de
SUMMARY:Heimspiel-Debut der Junghörnchen
DESCRIPTION:Die Herren 3 alias die Junghörnchen feiern ihr Heimspiel-Debut am 02.10.2022. \nAb 12:00 Uhr gibt es Kreisligavolleyball vom feinsten zu sehen! \nEssen und Trinken gibt’s auch\, also schaut vorbei 😉 \nEure Junghörnchen
URL:http://volleyball.tsv-eibelstadt.de/event/heimspiel-debut-der-junghoernchen/
END:VEVENT
END:VCALENDAR